BEGIN:VCALENDAR
VERSION:2.0
PRODID:-//Rongotai College - ECPv4.9.8//NONSGML v1.0//EN
CALSCALE:GREGORIAN
METHOD:PUBLISH
X-WR-CALNAME:Rongotai College
X-ORIGINAL-URL:https://www.rongotai.school.nz
X-WR-CALDESC:Events for Rongotai College
BEGIN:VTIMEZONE
TZID:Pacific/Auckland
BEGIN:STANDARD
TZOFFSETFROM:+1300
TZOFFSETTO:+1200
TZNAME:NZST
DTSTART:20190406T140000
END:STANDARD
BEGIN:DAYLIGHT
TZOFFSETFROM:+1200
TZOFFSETTO:+1300
TZNAME:NZDT
DTSTART:20190928T140000
END:DAYLIGHT
END:VTIMEZONE
BEGIN:VEVENT
DTSTART;VALUE=DATE:20191202
DTEND;VALUE=DATE:20191203
DTSTAMP:20191221T002427
CREATED:20190121T220600Z
LAST-MODIFIED:20190121T220600Z
UID:1653-1575244800-1575331199@www.rongotai.school.nz
SUMMARY:1st XI Cricket v Nelson at Nelson
DESCRIPTION:
URL:https://www.rongotai.school.nz/event/1st-xi-cricket-v-nelson-at-nelson/
END:VEVENT
BEGIN:VEVENT
DTSTART;TZID="Pacific/Auckland":20191202T180000
DTEND;TZID="Pacific/Auckland":20191202T200000
DTSTAMP:20191221T002427
CREATED:20191107T214028Z
LAST-MODIFIED:20191107T214028Z
UID:2037-1575309600-1575316800@www.rongotai.school.nz
SUMMARY:Te Pō Whakanui Night
DESCRIPTION:
URL:https://www.rongotai.school.nz/event/te-po-whakanui-night/
END:VEVENT
BEGIN:VEVENT
DTSTART;TZID="Pacific/Auckland":20191203T180000
DTEND;TZID="Pacific/Auckland":20191203T200000
DTSTAMP:20191221T002427
CREATED:20191107T214116Z
LAST-MODIFIED:20191107T214116Z
UID:2039-1575396000-1575403200@www.rongotai.school.nz
SUMMARY:Fiafia Night
DESCRIPTION:
URL:https://www.rongotai.school.nz/event/fiafia-night/
END:VEVENT
BEGIN:VEVENT
DTSTART;TZID="Pacific/Auckland":20191204T090000
DTEND;TZID="Pacific/Auckland":20191204T113000
DTSTAMP:20191221T002427
CREATED:20190121T220646Z
LAST-MODIFIED:20190121T220646Z
UID:1655-1575450000-1575459000@www.rongotai.school.nz
SUMMARY:Seniors return for final assembly
DESCRIPTION:
URL:https://www.rongotai.school.nz/event/seniors-return-for-final-assembly-2/
END:VEVENT
BEGIN:VEVENT
DTSTART;TZID="Pacific/Auckland":20191205T080000
DTEND;TZID="Pacific/Auckland":20191205T170000
DTSTAMP:20191221T002427
CREATED:20190121T220802Z
LAST-MODIFIED:20190121T220802Z
UID:1659-1575532800-1575565200@www.rongotai.school.nz
SUMMARY:Junior reports distributed
DESCRIPTION:
URL:https://www.rongotai.school.nz/event/junior-reports-distributed/
END:VEVENT
BEGIN:VEVENT
DTSTART;TZID="Pacific/Auckland":20191205T193000
DTEND;TZID="Pacific/Auckland":20191205T220000
DTSTAMP:20191221T002427
CREATED:20190121T220727Z
LAST-MODIFIED:20190121T220727Z
UID:1657-1575574200-1575583200@www.rongotai.school.nz
SUMMARY:Prizegiving
DESCRIPTION:
URL:https://www.rongotai.school.nz/event/prizegiving-3/
END:VEVENT
BEGIN:VEVENT
DTSTART;VALUE=DATE:20191206
DTEND;VALUE=DATE:20191207
DTSTAMP:20191221T002428
CREATED:20180806T224440Z
LAST-MODIFIED:20180806T224440Z
UID:1389-1575590400-1575676799@www.rongotai.school.nz
SUMMARY:Last Day Term 4
DESCRIPTION:
URL:https://www.rongotai.school.nz/event/last-day-term-4-2/
END:VEVENT
BEGIN:VEVENT
DTSTART;TZID="Pacific/Auckland":20191209T083000
DTEND;TZID="Pacific/Auckland":20191209T160000
DTSTAMP:20191221T002428
CREATED:20190925T030424Z
LAST-MODIFIED:20190925T031419Z
UID:2005-1575880200-1575907200@www.rongotai.school.nz
SUMMARY:College Office and Shop open
DESCRIPTION:
URL:https://www.rongotai.school.nz/event/college-office-and-shop-open-2/
END:VEVENT
BEGIN:VEVENT
DTSTART;TZID="Pacific/Auckland":20191210T083000
DTEND;TZID="Pacific/Auckland":20191210T083000
DTSTAMP:20191221T002428
CREATED:20190925T030057Z
LAST-MODIFIED:20190925T030159Z
UID:2003-1575966600-1575966600@www.rongotai.school.nz
SUMMARY:College Office and Shop open
DESCRIPTION:
URL:https://www.rongotai.school.nz/event/college-office-and-shop-open/
END:VEVENT
BEGIN:VEVENT
DTSTART;TZID="Pacific/Auckland":20191211T083000
DTEND;TZID="Pacific/Auckland":20191211T160000
DTSTAMP:20191221T002428
CREATED:20190925T031535Z
LAST-MODIFIED:20190925T031535Z
UID:2007-1576053000-1576080000@www.rongotai.school.nz
SUMMARY:College Office and Shop open
DESCRIPTION:
URL:https://www.rongotai.school.nz/event/college-office-and-shop-open-3/
END:VEVENT
BEGIN:VEVENT
DTSTART;TZID="Pacific/Auckland":20191212T083000
DTEND;TZID="Pacific/Auckland":20191212T160000
DTSTAMP:20191221T002428
CREATED:20190925T031636Z
LAST-MODIFIED:20190925T031636Z
UID:2009-1576139400-1576166400@www.rongotai.school.nz
SUMMARY:College Office and Shop open
DESCRIPTION:
URL:https://www.rongotai.school.nz/event/college-office-and-shop-open-4/
END:VEVENT
BEGIN:VEVENT
DTSTART;TZID="Pacific/Auckland":20191213T083000
DTEND;TZID="Pacific/Auckland":20191213T150000
DTSTAMP:20191221T002428
CREATED:20190925T031727Z
LAST-MODIFIED:20190925T031727Z
UID:2011-1576225800-1576249200@www.rongotai.school.nz
SUMMARY:College Office and Shop open
DESCRIPTION:
URL:https://www.rongotai.school.nz/event/college-office-and-shop-open-5/
END:VEVENT
END:VCALENDAR